BEGIN:VCALENDAR
VERSION:2.0
CALSCALE:GREGORIAN
PRODID:-//Diputació de Barcelona//DibaCMS//EN
BEGIN:VEVENT
UID:7186
DTSTAMP:20260422T113639
DTSTART:20120721T000000
DTEND:20120721T000000
SUMMARY:Festa 10è aniversari recollida selectiva porta a porta_Viladrau
LOCATION:
METHOD:PUBLISH
X-WR-CALNAME:mancoplana@mancoplana.cat
X-WR-TIMEZONE:Europe/Madrid
DESCRIPTION:- Parada informativa sobre la recollida porta a porta i els resultats obtinguts a Viladrau




- Regal d’una bossa reutilitzable i sorteig d’un àpat per a 2 persones en un restaurant de Viladrau




(Porta la butlleta annexa a la carta informativa)




- Exposició “Re-cicles” sobre el cicle de 6 materials diferents des de la seva obtenció fins al final de la seva vida útil




- Compost gratuït ( porta un recipient)- Jocs per als més petits




- Berenar pels assistents











URI:https://www.mancoplana.cat/actualitat/agenda/festa-10e-aniversari-recollida-selectiva-porta-a-porta-viladrau.html
CLASS:PUBLIC
END:VEVENT
END:VCALENDAR
