BEGIN:VCALENDAR
VERSION:2.0
CALSCALE:GREGORIAN
PRODID:-//Diputació de Barcelona//DibaCMS//EN
BEGIN:VEVENT
UID:7215
DTSTAMP:20260422T131247
DTSTART:20120918T000000
DTEND:20120918T000000
SUMMARY:Cicle de xerrades_El Brull_ Drets i deures dels usuaris de la sanitat
LOCATION:
METHOD:PUBLISH
X-WR-CALNAME:mancoplana@mancoplana.cat
X-WR-TIMEZONE:Europe/Madrid
DESCRIPTION:A càrrec de mercè Laborda, metgessa de la coordinadora d’usuaris de la sanitat


URI:https://www.mancoplana.cat/actualitat/agenda/cicle-de-xerrades-el-brull-drets-i-deures-dels-usuaris-de-la-sanitat.html
CLASS:PUBLIC
END:VEVENT
END:VCALENDAR
