BEGIN:VCALENDAR
VERSION:2.0
CALSCALE:GREGORIAN
PRODID:-//Diputació de Barcelona//DibaCMS//EN
BEGIN:VEVENT
UID:7216
DTSTAMP:20260422T065724
DTSTART:20120918T000000
DTEND:20120918T000000
SUMMARY:Xerrada_ Salut i Gent Gran_Aiguafreda i Sant Martí de Centelles
LOCATION:
METHOD:PUBLISH
X-WR-CALNAME:mancoplana@mancoplana.cat
X-WR-TIMEZONE:Europe/Madrid
DESCRIPTION:El problemes de salut de la gent gran.Com cuidar un malalt a casa




A càrrec de Mercè Laborda, metgessa de la coordinadora d’usuaris de la sanitat











URI:https://www.mancoplana.cat/actualitat/agenda/xerrada-salut-i-gent-gran-aiguafreda-i-sant-marti-de-centelles.html
CLASS:PUBLIC
END:VEVENT
END:VCALENDAR
