BEGIN:VCALENDAR
VERSION:2.0
CALSCALE:GREGORIAN
PRODID:-//Diputació de Barcelona//DibaCMS//EN
BEGIN:VEVENT
UID:7217
DTSTAMP:20260422T054150
DTSTART:20120921T000000
DTEND:20120921T000000
SUMMARY:Intercanvi de casals_Santa Eulàlia de Riuprimer i Sant Mateu de Bages
LOCATION:
METHOD:PUBLISH
X-WR-CALNAME:mancoplana@mancoplana.cat
X-WR-TIMEZONE:Europe/Madrid
DESCRIPTION:Inscripcions: del 6 al 18 de setembre al casal dels avis


URI:https://www.mancoplana.cat/actualitat/agenda/intercanvi-de-casals-santa-eulalia-de-riuprimer-i-sant-mateu-de-bages.html
CLASS:PUBLIC
END:VEVENT
END:VCALENDAR
