BEGIN:VCALENDAR
VERSION:2.0
CALSCALE:GREGORIAN
PRODID:-//Diputació de Barcelona//DibaCMS//EN
BEGIN:VEVENT
UID:7218
DTSTAMP:20260422T131017
DTSTART:20120925T000000
DTEND:20120925T000000
SUMMARY:Cicle de xerrades_Consells per reduir la factura elèctrica_El Brull 
LOCATION:
METHOD:PUBLISH
X-WR-CALNAME:mancoplana@mancoplana.cat
X-WR-TIMEZONE:Europe/Madrid
DESCRIPTION:A càrrec de Gil Salvans, tècnic de l’Agència Local de l’Energia d’Osona


URI:https://www.mancoplana.cat/actualitat/agenda/cicle-de-xerrades-consells-per-reduir-la-factura-electrica-el-brull-.html
CLASS:PUBLIC
END:VEVENT
END:VCALENDAR
