BEGIN:VCALENDAR
VERSION:2.0
CALSCALE:GREGORIAN
PRODID:-//Diputació de Barcelona//DibaCMS//EN
BEGIN:VEVENT
UID:7219
DTSTAMP:20260422T072012
DTSTART:20120926T000000
DTEND:20120926T000000
SUMMARY:Sessió informativa_Noves addiccions dels adolescents:Internet, mòbil i videojocs
LOCATION:
METHOD:PUBLISH
X-WR-CALNAME:mancoplana@mancoplana.cat
X-WR-TIMEZONE:Europe/Madrid
DESCRIPTION:Últim dimecres de cada mes

Sessions informatives per a mares i pares d’adolescents




Organitzades per el Centre de prevenció i intervenció en drogodependències SPOTT 




Informa-te’n al telèfon 93 402 28 80 o al correu electrònic sas.spott@diba.cat




 / www.diba.cat 




Per venir a qualsevol de les sessions cal confirmar l’assistència:




• al telèfon 93 402 28 80 • al correu electrònic sas.spott@diba.cat 
















URI:https://www.mancoplana.cat/actualitat/agenda/sessio-informativa-noves-addiccions-dels-adolescentsinternet-mobil-i-videojocs.html
CLASS:PUBLIC
END:VEVENT
END:VCALENDAR
