BEGIN:VCALENDAR
VERSION:2.0
CALSCALE:GREGORIAN
PRODID:-//Diputació de Barcelona//DibaCMS//EN
BEGIN:VEVENT
UID:7222
DTSTAMP:20260422T065800
DTSTART:20121001T000000
DTEND:20121001T000000
SUMMARY:Dia Internacional de la Gent Gran 
LOCATION:
METHOD:PUBLISH
X-WR-CALNAME:mancoplana@mancoplana.cat
X-WR-TIMEZONE:Europe/Madrid
DESCRIPTION:10’30h Tastet de tallers al centre polivalent de Seva




14h Dinar al Prat Verd de Malla




16h Passejada pel bosc artístic del Prat Verd




17’30h Visita al museu i a l’església romànica de St Vicenç de Malla










Servei d’autobús a tots els municipis de la MLP




Places limitades per rigorós ordre d’inscripció fins el 26 de setembre trucant al 93 812 54 45 de 9 a 14h











URI:https://www.mancoplana.cat/actualitat/agenda/dia-internacional-de-la-gent-gran-.html
CLASS:PUBLIC
END:VEVENT
END:VCALENDAR
