BEGIN:VCALENDAR
VERSION:2.0
CALSCALE:GREGORIAN
PRODID:-//Diputació de Barcelona//DibaCMS//EN
BEGIN:VEVENT
UID:7224
DTSTAMP:20260422T053558
DTSTART:20121008T000000
DTEND:20121008T000000
SUMMARY:Esmorzar i dinamització de l’espai lúdic per a la gent gran_ Sant Miquel de Balenyà
LOCATION:
METHOD:PUBLISH
X-WR-CALNAME:mancoplana@mancoplana.cat
X-WR-TIMEZONE:Europe/Madrid
DESCRIPTION:
URI:https://www.mancoplana.cat/actualitat/agenda/esmorzar-i-dinamitzacio-de-lespai-ludic-per-a-la-gent-gran-sant-miquel-de-balenya.html
CLASS:PUBLIC
END:VEVENT
END:VCALENDAR
