BEGIN:VCALENDAR
VERSION:2.0
CALSCALE:GREGORIAN
PRODID:-//Diputació de Barcelona//DibaCMS//EN
BEGIN:VEVENT
UID:7226
DTSTAMP:20260422T053351
DTSTART:20121016T000000
DTEND:20121016T000000
SUMMARY:Rugby per a nois i noies_Balenyà - 16/10/2012
LOCATION:
METHOD:PUBLISH
X-WR-CALNAME:mancoplana@mancoplana.cat
X-WR-TIMEZONE:Europe/Madrid
DESCRIPTION:Inscripcions: Punt Jove Flik Flak


URI:https://www.mancoplana.cat/actualitat/agenda/rugby-per-a-nois-i-noies-balenya-16102012.html
CLASS:PUBLIC
END:VEVENT
END:VCALENDAR
