BEGIN:VCALENDAR
VERSION:2.0
CALSCALE:GREGORIAN
PRODID:-//Diputació de Barcelona//DibaCMS//EN
BEGIN:VEVENT
UID:7228
DTSTAMP:20260422T083150
DTSTART:20121029T000000
DTEND:20121029T000000
SUMMARY:Xerrada-taller sobre la publicitat_Muntanyola
LOCATION:
METHOD:PUBLISH
X-WR-CALNAME:mancoplana@mancoplana.cat
X-WR-TIMEZONE:Europe/Madrid
DESCRIPTION:
URI:https://www.mancoplana.cat/actualitat/agenda/xerrada-taller-sobre-la-publicitat-muntanyola.html
CLASS:PUBLIC
END:VEVENT
END:VCALENDAR
