BEGIN:VCALENDAR
VERSION:2.0
CALSCALE:GREGORIAN
PRODID:-//Diputació de Barcelona//DibaCMS//EN
BEGIN:VEVENT
UID:7229
DTSTAMP:20260422T021745
DTSTART:20121030T000000
DTEND:20121030T000000
SUMMARY:Xerrada Drets i deures dels usuaris de la Sanitat_Taradell
LOCATION:
METHOD:PUBLISH
X-WR-CALNAME:mancoplana@mancoplana.cat
X-WR-TIMEZONE:Europe/Madrid
DESCRIPTION:
URI:https://www.mancoplana.cat/actualitat/agenda/xerrada-drets-i-deures-dels-usuaris-de-la-sanitat-taradell.html
CLASS:PUBLIC
END:VEVENT
END:VCALENDAR
