BEGIN:VCALENDAR
VERSION:2.0
CALSCALE:GREGORIAN
PRODID:-//Diputació de Barcelona//DibaCMS//EN
BEGIN:VEVENT
UID:7230
DTSTAMP:20260422T035723
DTSTART:20121112T000000
DTEND:20121112T000000
SUMMARY:Català inicial_Santa Eulàlia de Riuprimer
LOCATION:
METHOD:PUBLISH
X-WR-CALNAME:mancoplana@mancoplana.cat
X-WR-TIMEZONE:Europe/Madrid
DESCRIPTION:Inscripcions: Punt Jove El Cucut (plaça de la vila)


URI:https://www.mancoplana.cat/actualitat/agenda/catala-inicial-santa-eulalia-de-riuprimer.html
CLASS:PUBLIC
END:VEVENT
END:VCALENDAR
