BEGIN:VCALENDAR
VERSION:2.0
CALSCALE:GREGORIAN
PRODID:-//Diputació de Barcelona//DibaCMS//EN
BEGIN:VEVENT
UID:7232
DTSTAMP:20260422T132612
DTSTART:20121127T000000
DTEND:20121127T000000
SUMMARY:Xerrada_L’Autoestima, estimar-se a un mateix és estimar els altres_El Brull
LOCATION:
METHOD:PUBLISH
X-WR-CALNAME:mancoplana@mancoplana.cat
X-WR-TIMEZONE:Europe/Madrid
DESCRIPTION:A càrrec d’Irina Serra, psicòloga


URI:https://www.mancoplana.cat/actualitat/agenda/xerrada-lautoestima-estimar-se-a-un-mateix-es-estimar-els-altres-el-brull.html
CLASS:PUBLIC
END:VEVENT
END:VCALENDAR
