BEGIN:VCALENDAR
VERSION:2.0
CALSCALE:GREGORIAN
PRODID:-//Diputació de Barcelona//DibaCMS//EN
BEGIN:VEVENT
UID:7233
DTSTAMP:20260422T100822
DTSTART:20121128T000000
DTEND:20121128T000000
SUMMARY:Intercanvi de casals Balenyà-Castellgalí (Anem a Castellgalí)
LOCATION:
METHOD:PUBLISH
X-WR-CALNAME:mancoplana@mancoplana.cat
X-WR-TIMEZONE:Europe/Madrid
DESCRIPTION:Inscripcions i pagament: 13 i 15 de novembre de 3 a 5 de la tarda a la Llar del Jubilat


URI:https://www.mancoplana.cat/actualitat/agenda/intercanvi-de-casals-balenya-castellgali-anem-a-castellgali.html
CLASS:PUBLIC
END:VEVENT
END:VCALENDAR
