BEGIN:VCALENDAR
VERSION:2.0
CALSCALE:GREGORIAN
PRODID:-//Diputació de Barcelona//DibaCMS//EN
BEGIN:VEVENT
UID:7235
DTSTAMP:20260422T100914
DTSTART:20121128T000000
DTEND:20121128T000000
SUMMARY:Sessió informativa: Abordatge de l’adolescent conflictiu
LOCATION:
METHOD:PUBLISH
X-WR-CALNAME:mancoplana@mancoplana.cat
X-WR-TIMEZONE:Europe/Madrid
DESCRIPTION:Últim dimecres de cada mes

Sessions informatives per a mares i pares d’adolescents 









Organitzades per el Centre de prevenció i intervenció en drogodependències SPOTT




 Informa-te’n al telèfon 93 402 28 80 o al correu electrònic sas.spott@diba.cat




 / www.diba.cat 




Per venir a qualsevol de les sessions cal confirmar l’assistència: • al telèfon 93 402 28 80 • al correu electrònic sas.spott@diba.cat 
















URI:https://www.mancoplana.cat/actualitat/agenda/sessio-informativa-abordatge-de-ladolescent-conflictiu.html
CLASS:PUBLIC
END:VEVENT
END:VCALENDAR
