BEGIN:VCALENDAR
VERSION:2.0
CALSCALE:GREGORIAN
PRODID:-//Diputació de Barcelona//DibaCMS//EN
BEGIN:VEVENT
UID:7236
DTSTAMP:20260422T053656
DTSTART:20121120T000000
DTEND:20121120T000000
SUMMARY:Xerrada_ Consells per reduir la factura elèctrica_Sant Miquel de Balenyà_Seva
LOCATION:
METHOD:PUBLISH
X-WR-CALNAME:mancoplana@mancoplana.cat
X-WR-TIMEZONE:Europe/Madrid
DESCRIPTION:A càrrec de l’ Agència Local de l’Energia d’Osona


URI:https://www.mancoplana.cat/actualitat/agenda/xerrada-consells-per-reduir-la-factura-electrica-sant-miquel-de-balenya-seva.html
CLASS:PUBLIC
END:VEVENT
END:VCALENDAR
