BEGIN:VCALENDAR
VERSION:2.0
CALSCALE:GREGORIAN
PRODID:-//Diputació de Barcelona//DibaCMS//EN
BEGIN:VEVENT
UID:7237
DTSTAMP:20260422T011033
DTSTART:20121122T000000
DTEND:20121122T000000
SUMMARY:Xerrada_La relació amb els nostres fills en edat adolescent - Prevenció en el consum de drogues_Centelles
LOCATION:
METHOD:PUBLISH
X-WR-CALNAME:mancoplana@mancoplana.cat
X-WR-TIMEZONE:Europe/Madrid
DESCRIPTION:
URI:https://www.mancoplana.cat/actualitat/agenda/xerrada-la-relacio-amb-els-nostres-fills-en-edat-adolescent-prevencio-en-el-consum-de-drogues-centelles.html
CLASS:PUBLIC
END:VEVENT
END:VCALENDAR
