BEGIN:VCALENDAR
VERSION:2.0
CALSCALE:GREGORIAN
PRODID:-//Diputació de Barcelona//DibaCMS//EN
BEGIN:VEVENT
UID:7239
DTSTAMP:20260422T101850
DTSTART:20121130T000000
DTEND:20121130T000000
SUMMARY:Xerrada-debat per a pares i mares _Jugant aprenem tots. El joc i el lleure_Sant Miquel de Balenyà_Seva
LOCATION:
METHOD:PUBLISH
X-WR-CALNAME:mancoplana@mancoplana.cat
X-WR-TIMEZONE:Europe/Madrid
DESCRIPTION:
URI:https://www.mancoplana.cat/actualitat/agenda/xerrada-debat-per-a-pares-i-mares-jugant-aprenem-tots-el-joc-i-el-lleure-sant-miquel-de-balenya-seva.html
CLASS:PUBLIC
END:VEVENT
END:VCALENDAR
