BEGIN:VCALENDAR
VERSION:2.0
CALSCALE:GREGORIAN
PRODID:-//Diputació de Barcelona//DibaCMS//EN
BEGIN:VEVENT
UID:7240
DTSTAMP:20260422T130957
DTSTART:20121128T000000
DTEND:20121212T000000
SUMMARY:Taller pràctic_Aprenem a posar normes i límits als nostres fills/es_Balenyà
LOCATION:
METHOD:PUBLISH
X-WR-CALNAME:mancoplana@mancoplana.cat
X-WR-TIMEZONE:Europe/Madrid
DESCRIPTION:28 de novembre , 5 i 12 de desembre de 2012

Inscripcions: Centre Obert La Quitxalla de 16 a 17h o trucant 938820667/605452808/938125445


URI:https://www.mancoplana.cat/actualitat/agenda/taller-practic-aprenem-a-posar-normes-i-limits-als-nostres-fillses-balenya.html
CLASS:PUBLIC
END:VEVENT
END:VCALENDAR
