BEGIN:VCALENDAR
VERSION:2.0
CALSCALE:GREGORIAN
PRODID:-//Diputació de Barcelona//DibaCMS//EN
BEGIN:VEVENT
UID:7241
DTSTAMP:20260422T145041
DTSTART:20121126T000000
DTEND:20121130T000000
SUMMARY:Inscripcions_Curs de coneixement de l&rsquo;entorn_Balenyà
LOCATION:
METHOD:PUBLISH
X-WR-CALNAME:mancoplana@mancoplana.cat
X-WR-TIMEZONE:Europe/Madrid
DESCRIPTION:Inscripcions: L’Ateneu. Escola d’Adults de Balenyà De dilluns a divendres de 5 a 8 de la tarda Tel. 93 882 06 59


URI:https://www.mancoplana.cat/actualitat/agenda/inscripcions-curs-de-coneixement-de-landrsquoentorn-balenya.html
CLASS:PUBLIC
END:VEVENT
END:VCALENDAR
