BEGIN:VCALENDAR
VERSION:2.0
CALSCALE:GREGORIAN
PRODID:-//Diputació de Barcelona//DibaCMS//EN
BEGIN:VEVENT
UID:7242
DTSTAMP:20260422T145857
DTSTART:20121126T000000
DTEND:20121130T000000
SUMMARY:Inscripcions_Curs de coneixement de l&rsquo;entorn_Tona
LOCATION:
METHOD:PUBLISH
X-WR-CALNAME:mancoplana@mancoplana.cat
X-WR-TIMEZONE:Europe/Madrid
DESCRIPTION:Inscripcions: Aula Oberta (Escola d’Adults de Tona) De dilluns a dijous de 4 a 8 de la tarda Divendres de 2/4 de 10 a 2/4 d’1 del migida Tel. 93 887 07 61


URI:https://www.mancoplana.cat/actualitat/agenda/inscripcions-curs-de-coneixement-de-landrsquoentorn-tona.html
CLASS:PUBLIC
END:VEVENT
END:VCALENDAR
