BEGIN:VCALENDAR
VERSION:2.0
CALSCALE:GREGORIAN
PRODID:-//Diputació de Barcelona//DibaCMS//EN
BEGIN:VEVENT
UID:7243
DTSTAMP:20260422T054632
DTSTART:20121117T000000
DTEND:20121117T000000
SUMMARY:Concert_Cesc Freixes i Marc Puigdomenech & Pep Sallent_Balenyà
LOCATION:
METHOD:PUBLISH
X-WR-CALNAME:mancoplana@mancoplana.cat
X-WR-TIMEZONE:Europe/Madrid
DESCRIPTION:Venda d’entrades: Discos Martulina Divina (Vic) i Forn Nou (Balenyà) Organitzat per: KOK


URI:https://www.mancoplana.cat/actualitat/agenda/concert-cesc-freixes-i-marc-puigdomenech-and-pep-sallent-balenya.html
CLASS:PUBLIC
END:VEVENT
END:VCALENDAR
