BEGIN:VCALENDAR
VERSION:2.0
CALSCALE:GREGORIAN
PRODID:-//Diputació de Barcelona//DibaCMS//EN
BEGIN:VEVENT
UID:7244
DTSTAMP:20260422T133015
DTSTART:20121123T000000
DTEND:20121123T000000
SUMMARY:Taller _“Fes-te un regal, cuida&rsquo;t!”_Sant Martí de Centelles i Aiguafreda
LOCATION:
METHOD:PUBLISH
X-WR-CALNAME:mancoplana@mancoplana.cat
X-WR-TIMEZONE:Europe/Madrid
DESCRIPTION:Treballarem aspectes relacionats amb l’autoestima, l’autoconeixement i la importància d’estar bé amb nosaltres mateixos/es




Inici del taller: 23 de novembre




Dates: 23 i 30 de novembre i 14 de desembre de 2012 Inscripcions




 : abans del dia 21 de novembre al telèfon de l’Àrea Social de la Mancomunitat 93.812.54.45 (de 9 a 14h)
















URI:https://www.mancoplana.cat/actualitat/agenda/taller-fes-te-un-regal-cuidaandrsquot-sant-marti-de-centelles-i-aiguafreda.html
CLASS:PUBLIC
END:VEVENT
END:VCALENDAR
