BEGIN:VCALENDAR
VERSION:2.0
CALSCALE:GREGORIAN
PRODID:-//Diputació de Barcelona//DibaCMS//EN
BEGIN:VEVENT
UID:7245
DTSTAMP:20260422T113802
DTSTART:20121127T000000
DTEND:20121127T000000
SUMMARY:Xerrada_Autocura de les persones grans_Taradell
LOCATION:
METHOD:PUBLISH
X-WR-CALNAME:mancoplana@mancoplana.cat
X-WR-TIMEZONE:Europe/Madrid
DESCRIPTION:A càrrec de MONSTE MOLAS, infermera de l’ABS de Santa Eugènia-Consultori de Taradell



Parlarem de dietes, de medicació, de primeres cures quan ens cremem o tenim mal de panxa, de com demanar visita al metge, etc.









URI:https://www.mancoplana.cat/actualitat/agenda/xerrada-autocura-de-les-persones-grans-taradell.html
CLASS:PUBLIC
END:VEVENT
END:VCALENDAR
