BEGIN:VCALENDAR
VERSION:2.0
CALSCALE:GREGORIAN
PRODID:-//Diputació de Barcelona//DibaCMS//EN
BEGIN:VEVENT
UID:7247
DTSTAMP:20260422T132439
DTSTART:20121124T000000
DTEND:20121124T000000
SUMMARY:Taller de defensa personal_Dia contra la violència envers les dones_Balenyà
LOCATION:
METHOD:PUBLISH
X-WR-CALNAME:mancoplana@mancoplana.cat
X-WR-TIMEZONE:Europe/Madrid
DESCRIPTION:Taller a càrrec de Josep M. Grau




Ho organitza: Associació de Dones de Balenyà




 




Dia internacional contra la violència vers les dones - 25 novembre’12









NO A LA VIOLÈNCIA VERS LES DONES











URI:https://www.mancoplana.cat/actualitat/agenda/taller-de-defensa-personal-dia-contra-la-violencia-envers-les-dones-balenya.html
CLASS:PUBLIC
END:VEVENT
END:VCALENDAR
