BEGIN:VCALENDAR
VERSION:2.0
CALSCALE:GREGORIAN
PRODID:-//Diputació de Barcelona//DibaCMS//EN
BEGIN:VEVENT
UID:7248
DTSTAMP:20260422T102231
DTSTART:20121125T000000
DTEND:20121125T000000
SUMMARY:Encesa d&rsquo;espelmes i lectura del manifest_Dia contra la violència envers les dones_Balenyà
LOCATION:
METHOD:PUBLISH
X-WR-CALNAME:mancoplana@mancoplana.cat
X-WR-TIMEZONE:Europe/Madrid
DESCRIPTION:Lectura del manifest a càrrec de la Sra. Anna Magem, alcaldessa




I també, lectura de textos per part del Grup de Tertúlia literària




Dia internacional contra la violència vers les dones - 25 novembre’12









NO A LA VIOLÈNCIA VERS LES DONES











URI:https://www.mancoplana.cat/actualitat/agenda/encesa-dandrsquoespelmes-i-lectura-del-manifest-dia-contra-la-violencia-envers-les-dones-balenya.html
CLASS:PUBLIC
END:VEVENT
END:VCALENDAR
