BEGIN:VCALENDAR
VERSION:2.0
CALSCALE:GREGORIAN
PRODID:-//Diputació de Barcelona//DibaCMS//EN
BEGIN:VEVENT
UID:7249
DTSTAMP:20260422T115358
DTSTART:20121123T000000
DTEND:20121123T000000
SUMMARY:Lectura del manifest_Dia contra la violència envers les dones_Sant Martí de Centelles
LOCATION:
METHOD:PUBLISH
X-WR-CALNAME:mancoplana@mancoplana.cat
X-WR-TIMEZONE:Europe/Madrid
DESCRIPTION:Actes:




Lectura del manifest a càrrec de la Sra. Piluca Sena, regidora




Mostra d’activitats que es realitzen al municipi




Reflexió entorn la violència









Dia internacional contra la violència vers les dones - 25 novembre’12









NO A LA VIOLÈNCIA VERS LES DONES











URI:https://www.mancoplana.cat/actualitat/agenda/lectura-del-manifest-dia-contra-la-violencia-envers-les-dones-sant-marti-de-centelles.html
CLASS:PUBLIC
END:VEVENT
END:VCALENDAR
