BEGIN:VCALENDAR
VERSION:2.0
CALSCALE:GREGORIAN
PRODID:-//Diputació de Barcelona//DibaCMS//EN
BEGIN:VEVENT
UID:7250
DTSTAMP:20260422T150857
DTSTART:20121127T000000
DTEND:20121211T000000
SUMMARY:Taller_A cada problema una solució_Tona
LOCATION:
METHOD:PUBLISH
X-WR-CALNAME:mancoplana@mancoplana.cat
X-WR-TIMEZONE:Europe/Madrid
DESCRIPTION:Tres sessions: els dimarts 27 de novembre, 4 i 11 de desembre de 2012







Cal inscripció prèvia



 



: abans del 26 de novembre al telèfon de l’Àrea Social de la Mancomunitat La Plana (93 812 54 45) de 9 a 14h



Parlarem dels conflictes socials i familiars i com resoldre’ls, de l’assertivitat, dels estereotips de la gent gran, del paper de les persones grans davant la societat, etc.









URI:https://www.mancoplana.cat/actualitat/agenda/taller-a-cada-problema-una-solucio-tona.html
CLASS:PUBLIC
END:VEVENT
END:VCALENDAR
