BEGIN:VCALENDAR
VERSION:2.0
CALSCALE:GREGORIAN
PRODID:-//Diputació de Barcelona//DibaCMS//EN
BEGIN:VEVENT
UID:7251
DTSTAMP:20260422T113839
DTSTART:20121127T000000
DTEND:20121127T000000
SUMMARY:Xerrada_El rol parental i la prevenció de drogues en adolescents_Tona
LOCATION:
METHOD:PUBLISH
X-WR-CALNAME:mancoplana@mancoplana.cat
X-WR-TIMEZONE:Europe/Madrid
DESCRIPTION:CICLE DE XERRADES PER A PARES I MARES











 









URI:https://www.mancoplana.cat/actualitat/agenda/xerrada-el-rol-parental-i-la-prevencio-de-drogues-en-adolescents-tona.html
CLASS:PUBLIC
END:VEVENT
END:VCALENDAR
