BEGIN:VCALENDAR
VERSION:2.0
CALSCALE:GREGORIAN
PRODID:-//Diputació de Barcelona//DibaCMS//EN
BEGIN:VEVENT
UID:7252
DTSTAMP:20260422T115809
DTSTART:20121204T000000
DTEND:20121204T000000
SUMMARY:Xerrada_Promoció i defensa dels drets de les persones grans_Santa Eulàlia de Riuprimer
LOCATION:
METHOD:PUBLISH
X-WR-CALNAME:mancoplana@mancoplana.cat
X-WR-TIMEZONE:Europe/Madrid
DESCRIPTION:A càrrec d’Irina Serra, psicòloga




 Parlarem del paper de les persones grans davant la societat i dels estereotips Rebrem informació sobre recursos i institucions que vetllen per la defensa dels drets de les persones grans


URI:https://www.mancoplana.cat/actualitat/agenda/xerrada-promocio-i-defensa-dels-drets-de-les-persones-grans-santa-eulalia-de-riuprimer.html
CLASS:PUBLIC
END:VEVENT
END:VCALENDAR
