BEGIN:VCALENDAR
VERSION:2.0
CALSCALE:GREGORIAN
PRODID:-//Diputació de Barcelona//DibaCMS//EN
BEGIN:VEVENT
UID:7253
DTSTAMP:20260422T021609
DTSTART:20121204T000000
DTEND:20121204T000000
SUMMARY:Xerrada_L’autoestima. Estimar-se a un mateix és estimar els altres_Malla
LOCATION:
METHOD:PUBLISH
X-WR-CALNAME:mancoplana@mancoplana.cat
X-WR-TIMEZONE:Europe/Madrid
DESCRIPTION:A càrrec d’Irina Serra, psicòloga









Definirem la paraula autoestima Parlarem de què cal fer per sentir-nos bé i com controlar els pensaments negatius per millorar l’estat d’ànim











URI:https://www.mancoplana.cat/actualitat/agenda/xerrada-lautoestima-estimar-se-a-un-mateix-es-estimar-els-altres-malla.html
CLASS:PUBLIC
END:VEVENT
END:VCALENDAR
