BEGIN:VCALENDAR
VERSION:2.0
CALSCALE:GREGORIAN
PRODID:-//Diputació de Barcelona//DibaCMS//EN
BEGIN:VEVENT
UID:7255
DTSTAMP:20260422T034628
DTSTART:20121211T000000
DTEND:20121211T000000
SUMMARY:Xerrada_Conflictes i problemes amb l&rsquo;adolescent_Tona
LOCATION:
METHOD:PUBLISH
X-WR-CALNAME:mancoplana@mancoplana.cat
X-WR-TIMEZONE:Europe/Madrid
DESCRIPTION:CICLE DE XERRADES PER A PARES I MARES



Organitza: Ampas de Tona, PAs, Punt Jove i Ajuntament de Tona Col-labora: Mancomunitat La Plana









URI:https://www.mancoplana.cat/actualitat/agenda/xerrada-conflictes-i-problemes-amb-landrsquoadolescent-tona.html
CLASS:PUBLIC
END:VEVENT
END:VCALENDAR
