BEGIN:VCALENDAR
VERSION:2.0
CALSCALE:GREGORIAN
PRODID:-//Diputació de Barcelona//DibaCMS//EN
BEGIN:VEVENT
UID:7258
DTSTAMP:20260422T022921
DTSTART:20121211T000000
DTEND:20121219T000000
SUMMARY:Cap nen sense joguina_Aiguafreda i Sant Martí de Centelles
LOCATION:
METHOD:PUBLISH
X-WR-CALNAME:mancoplana@mancoplana.cat
X-WR-TIMEZONE:Europe/Madrid
DESCRIPTION:
11, 12, 13, 14, 18 I 19 DE DESEMBRE DE 2012







Horari: de dimarts a divendres de 17 a 20 hores
















CAMPANYA DE RECOLLIDA DE JOGUINES NOVES O EN MOLT BON ESTAT












URI:https://www.mancoplana.cat/actualitat/agenda/cap-nen-sense-joguina-aiguafreda-i-sant-marti-de-centelles.html
CLASS:PUBLIC
END:VEVENT
END:VCALENDAR
