BEGIN:VCALENDAR
VERSION:2.0
CALSCALE:GREGORIAN
PRODID:-//Diputació de Barcelona//DibaCMS//EN
BEGIN:VEVENT
UID:7259
DTSTAMP:20260422T040242
DTSTART:20121210T000000
DTEND:20121210T000000
SUMMARY:Xerrada_Les dones a la Unió Europea_Balenyà
LOCATION:
METHOD:PUBLISH
X-WR-CALNAME:mancoplana@mancoplana.cat
X-WR-TIMEZONE:Europe/Madrid
DESCRIPTION:Les dones a la Unió Europea. Polítiques de promoció de la igualtat de gènere a la Unió Europea



A càrrec d’Adrià Calvet del Punt d’Informació Europe Direct de la Diputació de Barcelona



 Organitza: Associació de Dones dels Hostalets de Balenyà i Mancomunitat la PlanaCol·labora: Ajuntament de Balenyà













URI:https://www.mancoplana.cat/actualitat/agenda/xerrada-les-dones-a-la-unio-europea-balenya.html
CLASS:PUBLIC
END:VEVENT
END:VCALENDAR
