BEGIN:VCALENDAR
VERSION:2.0
CALSCALE:GREGORIAN
PRODID:-//Diputació de Barcelona//DibaCMS//EN
BEGIN:VEVENT
UID:7261
DTSTAMP:20260422T053910
DTSTART:20121222T000000
DTEND:20121222T000000
SUMMARY:Curs de monitor/a_Balenyà
LOCATION:
METHOD:PUBLISH
X-WR-CALNAME:mancoplana@mancoplana.cat
X-WR-TIMEZONE:Europe/Madrid
DESCRIPTION:INTENSIU DE NADAL







Desembre: 22, 23, 27, 28, 29, 30, 31* Gener: 2, 3, 4, 5* 



* Només al matí



Els joves de Balenyà que tinguin entre 18 i 29 anys tindran 50€ del curs subvencionat !



 







Més informació i inscripcions fins el 12 de desembre



 al Flikflak-PuntJove









URI:https://www.mancoplana.cat/actualitat/agenda/curs-de-monitora-balenya.html
CLASS:PUBLIC
END:VEVENT
END:VCALENDAR
