BEGIN:VCALENDAR
VERSION:2.0
CALSCALE:GREGORIAN
PRODID:-//Diputació de Barcelona//DibaCMS//EN
BEGIN:VEVENT
UID:7263
DTSTAMP:20260422T053722
DTSTART:20121222T000000
DTEND:20121222T000000
SUMMARY:Gran Torronada_Sant Miquel de Balenyà-Seva
LOCATION:
METHOD:PUBLISH
X-WR-CALNAME:mancoplana@mancoplana.cat
X-WR-TIMEZONE:Europe/Madrid
DESCRIPTION:
*El preu inclou torrons, coca i begudes



Organitzat per: Associació de Pensionistes i Jubilats de Sant Miquel de Balenyà-Seva



Amb la col·laboració de: Ajuntament de Seva i Mancomunitat La Plana



 








Vine a celebrar les festes amb nosaltres! 







També farem una quina!







Inscripcions: al Bar del Casal, fins el 19 de desembre








URI:https://www.mancoplana.cat/actualitat/agenda/gran-torronada-sant-miquel-de-balenya-seva.html
CLASS:PUBLIC
END:VEVENT
END:VCALENDAR
