BEGIN:VCALENDAR
VERSION:2.0
CALSCALE:GREGORIAN
PRODID:-//Diputació de Barcelona//DibaCMS//EN
BEGIN:VEVENT
UID:7267
DTSTAMP:20260422T024109
DTSTART:20121216T000000
DTEND:20121216T000000
SUMMARY:Futbol_Units per la Marató de TV3_Aiguafreda i Sant Martí de Centelles
LOCATION:
METHOD:PUBLISH
X-WR-CALNAME:mancoplana@mancoplana.cat
X-WR-TIMEZONE:Europe/Madrid
DESCRIPTION:
Partit de futbol entre Aiguafreda i St. Martí de Centelles







A part, es poden trobar guardioles als diferents establiments comercials i de serveis per poder dipositar els donatius. Tots els beneficis obtinguts es lliuraran íntegrament a la Marató de TV3 un cop fet el recompte del que s’ha recaptat.



 Organitza: El Punt (Servei d’Informació Juvenil d’Aiguafreda i Sant Martí de Centelles). Col·labora: Ajuntament d’Aiguafreda, Ajuntament de Sant Martí de Centelles, Escola i AMPA La Muntanya, Escola i AMPA Valldeneu, Associació de Veïns d’Aiguafreda, Aiguafreda Comerç, Comissió de Festes d’Aiguafreda, Amics de la Sardana La Vall del Congost, Casal St. Jordi, Caritas, El Talleret del Clot, Escola de Música La Clau de Sol, Grup d’Altletes de la Vall del Congost, DANSAIdansa, Els Gafarrons, Unió Esportiva Aiguafreda, Els Grillats, Secretaria de Joventut de la Generalitat de Catalunya i Diputació de Barcelona.




 









URI:https://www.mancoplana.cat/actualitat/agenda/futbol-units-per-la-marato-de-tv3-aiguafreda-i-sant-marti-de-centelles.html
CLASS:PUBLIC
END:VEVENT
END:VCALENDAR
