BEGIN:VCALENDAR
VERSION:2.0
CALSCALE:GREGORIAN
PRODID:-//Diputació de Barcelona//DibaCMS//EN
BEGIN:VEVENT
UID:7269
DTSTAMP:20260422T065857
DTSTART:20121215T000000
DTEND:20121215T000000
SUMMARY:Fira de Santa Llúcia_Aiguafreda
LOCATION:
METHOD:PUBLISH
X-WR-CALNAME:mancoplana@mancoplana.cat
X-WR-TIMEZONE:Europe/Madrid
DESCRIPTION:Tallers infantils i més de 70 parades d’artesania de qualitat













URI:https://www.mancoplana.cat/actualitat/agenda/fira-de-santa-llucia-aiguafreda.html
CLASS:PUBLIC
END:VEVENT
END:VCALENDAR
