BEGIN:VCALENDAR
VERSION:2.0
CALSCALE:GREGORIAN
PRODID:-//Diputació de Barcelona//DibaCMS//EN
BEGIN:VEVENT
UID:7270
DTSTAMP:20260422T034901
DTSTART:20121221T000000
DTEND:20121221T000000
SUMMARY:Fem cagar el tió!_Balenyà
LOCATION:
METHOD:PUBLISH
X-WR-CALNAME:mancoplana@mancoplana.cat
X-WR-TIMEZONE:Europe/Madrid
DESCRIPTION:
URI:https://www.mancoplana.cat/actualitat/agenda/fem-cagar-el-tio-balenya.html
CLASS:PUBLIC
END:VEVENT
END:VCALENDAR
