BEGIN:VCALENDAR
VERSION:2.0
CALSCALE:GREGORIAN
PRODID:-//Diputació de Barcelona//DibaCMS//EN
BEGIN:VEVENT
UID:7273
DTSTAMP:20260422T021645
DTSTART:20121226T000000
DTEND:20121226T000000
SUMMARY:Gran Quina 2012_Balenyà
LOCATION:
METHOD:PUBLISH
X-WR-CALNAME:mancoplana@mancoplana.cat
X-WR-TIMEZONE:Europe/Madrid
DESCRIPTION:
URI:https://www.mancoplana.cat/actualitat/agenda/gran-quina-2012-balenya.html
CLASS:PUBLIC
END:VEVENT
END:VCALENDAR
