BEGIN:VCALENDAR
VERSION:2.0
CALSCALE:GREGORIAN
PRODID:-//Diputació de Barcelona//DibaCMS//EN
BEGIN:VEVENT
UID:7274
DTSTAMP:20260422T023047
DTSTART:20130102T000000
DTEND:20130104T000000
SUMMARY:Saló de la Infància_Balenyà
LOCATION:
METHOD:PUBLISH
X-WR-CALNAME:mancoplana@mancoplana.cat
X-WR-TIMEZONE:Europe/Madrid
DESCRIPTION:





Dimecres 2, dijous 3 i divendres 4 de gener de 2013












URI:https://www.mancoplana.cat/actualitat/agenda/salo-de-la-infancia-balenya.html
CLASS:PUBLIC
END:VEVENT
END:VCALENDAR
