BEGIN:VCALENDAR
VERSION:2.0
CALSCALE:GREGORIAN
PRODID:-//Diputació de Barcelona//DibaCMS//EN
BEGIN:VEVENT
UID:7275
DTSTAMP:20260422T035911
DTSTART:20121230T000000
DTEND:20121230T000000
SUMMARY:Recepció dels carters reials_Seva
LOCATION:
METHOD:PUBLISH
X-WR-CALNAME:mancoplana@mancoplana.cat
X-WR-TIMEZONE:Europe/Madrid
DESCRIPTION:
URI:https://www.mancoplana.cat/actualitat/agenda/recepcio-dels-carters-reials-seva.html
CLASS:PUBLIC
END:VEVENT
END:VCALENDAR
