BEGIN:VCALENDAR
VERSION:2.0
CALSCALE:GREGORIAN
PRODID:-//Diputació de Barcelona//DibaCMS//EN
BEGIN:VEVENT
UID:7276
DTSTAMP:20260422T041019
DTSTART:20130116T000000
DTEND:20130116T000000
SUMMARY:Excursió al Màgic món del tren_Sant Miquel de Balenyà
LOCATION:
METHOD:PUBLISH
X-WR-CALNAME:mancoplana@mancoplana.cat
X-WR-TIMEZONE:Europe/Madrid
DESCRIPTION:Inscripcions fins el dia 11 de gener al Bar del Casal de Sant Miquel de Balenyà







PLACES LIMITADES







Organitzat per: Casal de St. Miquel



Amb el suport de: Ajuntament de Seva i Mancomunitat La Plana



 









URI:https://www.mancoplana.cat/actualitat/agenda/excursio-al-magic-mon-del-tren-sant-miquel-de-balenya.html
CLASS:PUBLIC
END:VEVENT
END:VCALENDAR
