BEGIN:VCALENDAR
VERSION:2.0
CALSCALE:GREGORIAN
PRODID:-//Diputació de Barcelona//DibaCMS//EN
BEGIN:VEVENT
UID:7277
DTSTAMP:20260422T040011
DTSTART:20130111T000000
DTEND:20130115T000000
SUMMARY:Inscripcions_Taller de memòria_Aiguafreda
LOCATION:
METHOD:PUBLISH
X-WR-CALNAME:mancoplana@mancoplana.cat
X-WR-TIMEZONE:Europe/Madrid
DESCRIPTION:A càrrec de Lola Gutierres, tècnica de la Diputació de Barcelona







Els dimarts 15, 22 i 29 de gener, 5,12, 19 i 26 de febrer i 5, 12, 19 i 26 de març de 2013



Més informació: a l’Ajuntament d’Aiguafreda (93 844 22 53) o a l’Àrea social de la Mancomunitat La Plana (93 812 54 45) de 9 a 14h



Inscripcions fins el dia 11 de gener



 



via telèfon de l’Àrea social de la Mancomunitat La Plana (93 812 54 45) de 9 a 14hOrganitza: Ajuntament d’Aiguafreda i Diputació de Barcelona Amb el suport de: Mancomunitat La Plana









URI:https://www.mancoplana.cat/actualitat/agenda/inscripcions-taller-de-memoria-aiguafreda.html
CLASS:PUBLIC
END:VEVENT
END:VCALENDAR
