BEGIN:VCALENDAR
VERSION:2.0
CALSCALE:GREGORIAN
PRODID:-//Diputació de Barcelona//DibaCMS//EN
BEGIN:VEVENT
UID:7279
DTSTAMP:20260422T042639
DTSTART:20130118T000000
DTEND:20130118T000000
SUMMARY:Concert Jove amb FunkyStep & The Sey Sister_Balenyà
LOCATION:
METHOD:PUBLISH
X-WR-CALNAME:mancoplana@mancoplana.cat
X-WR-TIMEZONE:Europe/Madrid
DESCRIPTION:
 



Organitza: Regidoria de Joventut - FlikFlak – PuntJove



 







Dins la programació de la FESTA MAJOR D’HIVERN: SANT FRUITÓS



 













URI:https://www.mancoplana.cat/actualitat/agenda/concert-jove-amb-funkystep-and-the-sey-sister-balenya.html
CLASS:PUBLIC
END:VEVENT
END:VCALENDAR
