BEGIN:VCALENDAR
VERSION:2.0
CALSCALE:GREGORIAN
PRODID:-//Diputació de Barcelona//DibaCMS//EN
BEGIN:VEVENT
UID:7280
DTSTAMP:20260422T040528
DTSTART:20130119T000000
DTEND:20130119T000000
SUMMARY:Presentació d&rsquo;“Arremanga’t: Borsa de Voluntaris de Balenyà”
LOCATION:
METHOD:PUBLISH
X-WR-CALNAME:mancoplana@mancoplana.cat
X-WR-TIMEZONE:Europe/Madrid
DESCRIPTION:Presentació del projecte “Arremanga’t: Borsa de Voluntaris de Balenyà” Organitza: Ajuntament de Balenyà i Mancomunitat La Plana



Dins la programació de la FESTA MAJOR D’HIVERN: SANT FRUITÓS









URI:https://www.mancoplana.cat/actualitat/agenda/presentacio-dandrsquoarremangat-borsa-de-voluntaris-de-balenya.html
CLASS:PUBLIC
END:VEVENT
END:VCALENDAR
