BEGIN:VCALENDAR
VERSION:2.0
CALSCALE:GREGORIAN
PRODID:-//Diputació de Barcelona//DibaCMS//EN
BEGIN:VEVENT
UID:7287
DTSTAMP:20260422T113652
DTSTART:20130221T000000
DTEND:20130226T000000
SUMMARY:Taller intercultural de mares_Balenyà
LOCATION:
METHOD:PUBLISH
X-WR-CALNAME:mancoplana@mancoplana.cat
X-WR-TIMEZONE:Europe/Madrid
DESCRIPTION:



Cada dijous



 de 3 a 2/4 de 5 de la tarda







Farem...décopatch, trencadís, paper maixé, llana feltrada...







Inscripcions a l’Escola (bústia de l’AMPA)









URI:https://www.mancoplana.cat/actualitat/agenda/taller-intercultural-de-mares-balenya.html
CLASS:PUBLIC
END:VEVENT
END:VCALENDAR
