BEGIN:VCALENDAR
VERSION:2.0
CALSCALE:GREGORIAN
PRODID:-//Diputació de Barcelona//DibaCMS//EN
BEGIN:VEVENT
UID:7291
DTSTAMP:20260422T083215
DTSTART:20130210T000000
DTEND:20130210T000000
SUMMARY:BUS NIT_Carnaval de Terra Endins de Torelló 
LOCATION:
METHOD:PUBLISH
X-WR-CALNAME:mancoplana@mancoplana.cat
X-WR-TIMEZONE:Europe/Madrid
DESCRIPTION:BUSNIT: et tornem a casa



 



Una iniciativa del servei de joventut del Consell Comarcal i l’ajuntament de Torelló.



Trajecte de tornada de Torelló als municipis d’Osona, la nit del dissabte 9 al diumenge 10 de febrer de 2013 a les 4 hores de la matinada. Té les places limitades



 (750) i aquestes s’atorgaran per rigorós ordre d’inscripció. El període d’inscripció



 anirà del dijous dia 24 de gener al dijous dia 7 de febrer (ambdós inclosos). Els joves s’han d’inscriure en



 l’ajuntament o punt jove del municipi on volen baixar



 



.









URI:https://www.mancoplana.cat/actualitat/agenda/bus-nit-carnaval-de-terra-endins-de-torello-.html
CLASS:PUBLIC
END:VEVENT
END:VCALENDAR
