BEGIN:VCALENDAR
VERSION:2.0
CALSCALE:GREGORIAN
PRODID:-//Diputació de Barcelona//DibaCMS//EN
BEGIN:VEVENT
UID:7293
DTSTAMP:20260422T052111
DTSTART:20130228T000000
DTEND:20130301T000000
SUMMARY:Curs de Mosso de Magatzem_Aiguafreda
LOCATION:
METHOD:PUBLISH
X-WR-CALNAME:mancoplana@mancoplana.cat
X-WR-TIMEZONE:Europe/Madrid
DESCRIPTION:Dies: Dijous 28 de febrer i divendres 1 de març



Mínim 10 persones Inscripcions i pagament fins el 21 de febrer



 Per a més informació de dimarts a divendres de 17h a 20h a El Punt



 o al 938440786









URI:https://www.mancoplana.cat/actualitat/agenda/curs-de-mosso-de-magatzem-aiguafreda.html
CLASS:PUBLIC
END:VEVENT
END:VCALENDAR
