BEGIN:VCALENDAR
VERSION:2.0
CALSCALE:GREGORIAN
PRODID:-//Diputació de Barcelona//DibaCMS//EN
BEGIN:VEVENT
UID:7295
DTSTAMP:20260422T101037
DTSTART:20130305T000000
DTEND:20130305T000000
SUMMARY:Taller intercultural de mares_Sant Miquel de Balenyà-Seva
LOCATION:
METHOD:PUBLISH
X-WR-CALNAME:mancoplana@mancoplana.cat
X-WR-TIMEZONE:Europe/Madrid
DESCRIPTION:



Cada dimarts







Inici: 5 de març de 2013



Farem... pintura sobre tela, pintura sobre vidre, enquadernació... 







Inscripcions a l’administració de l’Escola









URI:https://www.mancoplana.cat/actualitat/agenda/taller-intercultural-de-mares-sant-miquel-de-balenya-seva.html
CLASS:PUBLIC
END:VEVENT
END:VCALENDAR
